BEGIN:VCALENDAR
VERSION:2.0
PRODID:-//Greater Columbia Music Teachers Association - ECPv6.15.16.1//NONSGML v1.0//EN
CALSCALE:GREGORIAN
METHOD:PUBLISH
X-ORIGINAL-URL:https://gcmta.net
X-WR-CALDESC:Events for Greater Columbia Music Teachers Association
REFRESH-INTERVAL;VALUE=DURATION:PT1H
X-Robots-Tag:noindex
X-PUBLISHED-TTL:PT1H
BEGIN:VTIMEZONE
TZID:America/New_York
BEGIN:DAYLIGHT
TZOFFSETFROM:-0500
TZOFFSETTO:-0400
TZNAME:EDT
DTSTART:20250309T070000
END:DAYLIGHT
BEGIN:STANDARD
TZOFFSETFROM:-0400
TZOFFSETTO:-0500
TZNAME:EST
DTSTART:20251102T060000
END:STANDARD
BEGIN:DAYLIGHT
TZOFFSETFROM:-0500
TZOFFSETTO:-0400
TZNAME:EDT
DTSTART:20260308T070000
END:DAYLIGHT
BEGIN:STANDARD
TZOFFSETFROM:-0400
TZOFFSETTO:-0500
TZNAME:EST
DTSTART:20261101T060000
END:STANDARD
BEGIN:DAYLIGHT
TZOFFSETFROM:-0500
TZOFFSETTO:-0400
TZNAME:EDT
DTSTART:20270314T070000
END:DAYLIGHT
BEGIN:STANDARD
TZOFFSETFROM:-0400
TZOFFSETTO:-0500
TZNAME:EST
DTSTART:20271107T060000
END:STANDARD
END:VTIMEZONE
BEGIN:VEVENT
DTSTART;VALUE=DATE:20260425
DTEND;VALUE=DATE:20260426
DTSTAMP:20260421T005713
CREATED:20140925T045513Z
LAST-MODIFIED:20250903T032726Z
UID:95-1777075200-1777161599@gcmta.net
SUMMARY:Spring Piano Solo Competition
DESCRIPTION:This competitive piano event is open to school-age students of all levels who are students of a GCMTA member teacher.  Standard or quality teaching repertoire is expected. Deadline for entry is IN HAND March 24. \n  \nActive and Prelude GCMTA members in good standing are eligible to enter their students in GCMTA events.  If you wish to enter your child or student into a GCMTA event\, and are not a member\, please first contact our Membership Chair\, and then join here. In order to enter students\, you must download\, read and use the form in the Student Activities Booklet (SAB)\, found on this website. \nGuidelines for Competitions
URL:https://gcmta.net/event/spring-solo-competition
LOCATION:Christ Memorial Presbyterian Church and New Hope Lutheran\, 6410 Amherst Avenue and 8575 Guilford Road\, Columbia\, MD\, 21046\, United States
ORGANIZER;CN="Helen Weems":MAILTO:weemspianostudio@gmail.com
END:VEVENT
BEGIN:VEVENT
DTSTART;TZID=America/New_York:20260425T130000
DTEND;TZID=America/New_York:20260425T170000
DTSTAMP:20260421T005713
CREATED:20140925T045619Z
LAST-MODIFIED:20250903T033437Z
UID:97-1777122000-1777136400@gcmta.net
SUMMARY:MSMTA High School Performance Award - Columbia
DESCRIPTION:A performance scholarship award for high school students.  Preliminary email deadline is February 24.  Please note\, only 3 eras are required\, not four.  First prize $100\, second prize $75\, and third prize $50. \nParticipating teachers must be Active or Prelude Members of GCMTA in order to enter students into competitive events.  To become a member of GCMTA\, please contact our Membership Chair\, Anne Chen.  In order to enter students\, you must download\, read and use the form in the Student Activities Booklet (SAB)\, found on this website. \nHigh School Performance Award Information
URL:https://gcmta.net/event/msmta-high-school-award-columbia
LOCATION:David Holmes Studio\, 6586 Dovecote Drive\, Columbia\, MD\, 21044\, United States
ORGANIZER;CN="David Holmes":MAILTO:dwholmes0@gmail.com
END:VEVENT
BEGIN:VEVENT
DTSTART;TZID=America/New_York:20260508T093000
DTEND;TZID=America/New_York:20260508T110000
DTSTAMP:20260421T005713
CREATED:20250825T163125Z
LAST-MODIFIED:20250825T163125Z
UID:1128-1778232600-1778238000@gcmta.net
SUMMARY:Membership Planning Meeting
DESCRIPTION:Please contact our President\, Deborah White Bondhus\, for directions to this meeting.
URL:https://gcmta.net/event/membership-planning-meeting
END:VEVENT
BEGIN:VEVENT
DTSTART;VALUE=DATE:20260515
DTEND;VALUE=DATE:20260516
DTSTAMP:20260421T005713
CREATED:20140925T045325Z
LAST-MODIFIED:20250825T160516Z
UID:93-1778803200-1778889599@gcmta.net
SUMMARY:MSMTA High School Recognition Exams - Columbia Center
DESCRIPTION:For over 40 years\, MSMTA has sponsored the High School Piano Exams in cooperation with the Maryland Department of Education.  The exam is for piano students in grades 9-12 in public\, non-public\, or home taught schools who are residents of Maryland and are studying piano privately on a regular basis during the school year.  Passing students are awarded a certificate of achievement for their school record. \nDeadline is Monday\, March 31st\, 2026.  Uploads of videos are due by 11:59 pm May 15. \nPlease see the Maryland State Music Teachers Association website for more details. \n 
URL:https://gcmta.net/event/msmta-high-school-recognition-exams-columbia-center
LOCATION:Zoom\, United States
ORGANIZER;CN="Deborah White-Bondhus":MAILTO:DebBondhus@gmail.com
END:VEVENT
BEGIN:VEVENT
DTSTART;TZID=America/New_York:20260606T173000
DTEND;TZID=America/New_York:20260606T203000
DTSTAMP:20260421T005713
CREATED:20250825T163251Z
LAST-MODIFIED:20250825T163251Z
UID:1130-1780767000-1780777800@gcmta.net
SUMMARY:Excellent Membership Potluck Meeting
DESCRIPTION:Please contact our President\, Deborah White Bondhus\, for directions to this excellent meeting and celebratory potluck dinner\, significant others included!
URL:https://gcmta.net/event/excellent-membership-potluck-meeting
END:VEVENT
END:VCALENDAR